BEGIN:VCALENDAR
VERSION:2.0
PRODID:-//jEvents 2.0 for Joomla//EN
CALSCALE:GREGORIAN
METHOD:PUBLISH
BEGIN:VEVENT
UID:31adb079fbe9ec7d55e8e0926fcc7919
CATEGORIES:Seminare
CREATED:20260202T132023
SUMMARY:Schadensanalytik an beschichteten Bauteilen
DESCRIPTION:Institut für Galvano- und Oberflächentechnik Solingen GmbH &amp; Co. KG (IG
 OS) (https://www.igos.de)\nSolingen\n \nSchadensanalytik an beschichteten B
 auteilenSchadensanalysen an geschädigten Werkstücken können aus diversen Gr
 ünden erforderlich sein. Dabei spielt die Schadensanalyse im Rahmen von Sac
 hverständigen- und Gutachtertätigkeiten eine untergeordnete Rolle. Häufiger
  werden Schadensanalysen im Zusammenhang mit Produktionsfehlern durchgeführ
 t, um die Möglichkeit eines latenten Fehlers auszuschließen und die Lieferf
 ähigkeit sicherzustellen.\n \nDas grundsätzliche Vorgehen bei einer Schaden
 sanalyse ist - unabhängig vom Grund für die Untersuchung - immer gleich. Di
 eses grundsätzliche Vorgehen sowie die Möglichkeiten einer Schadensanalyse 
 für beschichtete Produkte soll im Rahmen des Seminars vermittelt werden.\n
X-ALT-DESC;FMTTYPE=text/html:<p><a title="IGOS" href="https://www.igos.de"><strong>Institut für Galvano-
  und Oberflächentechnik Solingen GmbH &amp; Co. KG (IGOS)</strong></a></p><
 p><strong>Solingen</strong></p><header></header><p> </p><h3>Schadensanalyti
 k an beschichteten Bauteilen</h3><p>Schadensanalysen an geschädigten Werkst
 ücken können aus diversen Gründen erforderlich sein. Dabei spielt die Schad
 ensanalyse im Rahmen von Sachverständigen- und Gutachtertätigkeiten eine un
 tergeordnete Rolle. Häufiger werden Schadensanalysen im Zusammenhang mit Pr
 oduktionsfehlern durchgeführt, um die Möglichkeit eines latenten Fehlers au
 szuschließen und die Lieferfähigkeit sicherzustellen.</p><p> </p><p>Das gru
 ndsätzliche Vorgehen bei einer Schadensanalyse ist - unabhängig vom Grund f
 ür die Untersuchung - immer gleich. Dieses grundsätzliche Vorgehen sowie di
 e Möglichkeiten einer Schadensanalyse für beschichtete Produkte soll im Rah
 men des Seminars vermittelt werden.</p>
DTSTAMP:20260420T230932
DTSTART;VALUE=DATE:20261001
DTEND;VALUE=DATE:20261002
SEQUENCE:0
TRANSP:OPAQUE
END:VEVENT
END:VCALENDAR