BEGIN:VCALENDAR
VERSION:2.0
PRODID:-//jEvents 2.0 for Joomla//EN
CALSCALE:GREGORIAN
METHOD:PUBLISH
BEGIN:VEVENT
UID:72ff0bcb3b3804389ca864ccf34575a1
CATEGORIES:Tagungen
CREATED:20260224T144636
SUMMARY:Aachener Oberflächentechnik-Kolloquium
DESCRIPTION:Lehrstuhl und Institut für Oberflächentechnik im Maschinenbau \nDas Aachene
 r Oberflächentechnik-Kolloquium stellt aktuelle Forschungsthemen, innovativ
 e Entwicklungen und neue industrielle Anwendungen aus dem Bereich der Oberf
 lächentechnik vor. Es dient als Forum für einen anregenden Erfahrungsaustau
 sch zu Technik und Wissenschaft und beleuchtet die Bereiche Werkstoffe, Pro
 zesse und Applikationen. Zur Teilnahme herzlich eingeladen sind sowohl Expe
 rten auf dem Gebiet der Oberflächentechnik aus Industrie, Forschung und Leh
 re als auch Studenten und der interessierte Laie.\n \nWeitere Informationen
  -&gt; www.iot.rwth-aachen.de/ (https://www.iot.rwth-aachen.de/cms/iot/das-
 institut/aktuelle-veranstaltungen/~rddb/aachener-oberflaechentechnik-kolloq
 uium/)\n \n
X-ALT-DESC;FMTTYPE=text/html:<table style="border-collapse: collapse; width: 99.9857%; border-width: 0px
 ;" border="1"><colgroup><col style="width: 99.914%;"></colgroup><tbody><tr>
 <td style="border-width: 0px; padding: 10px;"><h3>Lehrstuhl und Institut fü
 r Oberflächentechnik im Maschinenbau</h3><p> </p><p>Das Aachener Oberfläche
 ntechnik-Kolloquium stellt aktuelle Forschungsthemen, innovative Entwicklun
 gen und neue industrielle Anwendungen aus dem Bereich der Oberflächentechni
 k vor. Es dient als Forum für einen anregenden Erfahrungsaustausch zu Techn
 ik und Wissenschaft und beleuchtet die Bereiche Werkstoffe, Prozesse und Ap
 plikationen. Zur Teilnahme herzlich eingeladen sind sowohl Experten auf dem
  Gebiet der Oberflächentechnik aus Industrie, Forschung und Lehre als auch 
 Studenten und der interessierte Laie.</p><p> </p><p><strong>Weitere Informa
 tionen -&gt; <a title="Achener Kolloquium" href="https://www.iot.rwth-aache
 n.de/cms/iot/das-institut/aktuelle-veranstaltungen/~rddb/aachener-oberflaec
 hentechnik-kolloquium/">www.iot.rwth-aachen.de/</a></strong></p><p> </p></t
 d></tr></tbody></table>
DTSTAMP:20260421T173228
DTSTART;VALUE=DATE:20261211
DTEND;VALUE=DATE:20261212
SEQUENCE:0
TRANSP:OPAQUE
END:VEVENT
END:VCALENDAR